BEGIN:VCALENDAR
VERSION:2.0
PRODID:icalendar-ruby
CALSCALE:GREGORIAN
METHOD:PUBLISH
BEGIN:VEVENT
DTSTAMP:20260424T141728Z
UID:200-536732@tbclighthouse.org
DTSTART:20260505T230000Z
DTEND:20260506T010000Z
CLASS:PUBLIC
CREATED:20260423T124132
DESCRIPTION:
LAST-MODIFIED:20260423T124132
LOCATION:
SUMMARY:Men's Cornhole
URL;VALUE=URI:https://tbclighthouse.org/events/mens-cornhole/2026-05-05
END:VEVENT
END:VCALENDAR
