BEGIN:VCALENDAR
VERSION:2.0
PRODID:icalendar-ruby
CALSCALE:GREGORIAN
METHOD:PUBLISH
BEGIN:VEVENT
DTSTAMP:20260424T141913Z
UID:199-536731@tbclighthouse.org
DTSTART:20260504T223000Z
DTEND:20260505T000000Z
CLASS:PUBLIC
CREATED:20260423T124039
DESCRIPTION:
LAST-MODIFIED:20260423T124039
LOCATION:
SUMMARY:GriefShare
URL;VALUE=URI:https://tbclighthouse.org/events/griefshare--199/2026-05-04
END:VEVENT
END:VCALENDAR
